BEGIN:VCALENDAR
VERSION:2.0
PRODID:-//PMPromotion - ECPv6.15.20//NONSGML v1.0//EN
CALSCALE:GREGORIAN
METHOD:PUBLISH
X-WR-CALNAME:PMPromotion
X-ORIGINAL-URL:https://pmpro.it
X-WR-CALDESC:Eventi per PMPromotion
REFRESH-INTERVAL;VALUE=DURATION:PT1H
X-Robots-Tag:noindex
X-PUBLISHED-TTL:PT1H
BEGIN:VTIMEZONE
TZID:Europe/Rome
BEGIN:DAYLIGHT
TZOFFSETFROM:+0100
TZOFFSETTO:+0200
TZNAME:CEST
DTSTART:20230326T010000
END:DAYLIGHT
BEGIN:STANDARD
TZOFFSETFROM:+0200
TZOFFSETTO:+0100
TZNAME:CET
DTSTART:20231029T010000
END:STANDARD
BEGIN:DAYLIGHT
TZOFFSETFROM:+0100
TZOFFSETTO:+0200
TZNAME:CEST
DTSTART:20240331T010000
END:DAYLIGHT
BEGIN:STANDARD
TZOFFSETFROM:+0200
TZOFFSETTO:+0100
TZNAME:CET
DTSTART:20241027T010000
END:STANDARD
BEGIN:DAYLIGHT
TZOFFSETFROM:+0100
TZOFFSETTO:+0200
TZNAME:CEST
DTSTART:20250330T010000
END:DAYLIGHT
BEGIN:STANDARD
TZOFFSETFROM:+0200
TZOFFSETTO:+0100
TZNAME:CET
DTSTART:20251026T010000
END:STANDARD
END:VTIMEZONE
BEGIN:VEVENT
DTSTART;TZID=Europe/Rome:20240812T210000
DTEND;TZID=Europe/Rome:20240812T230000
DTSTAMP:20260422T100135
CREATED:20240508T071355Z
LAST-MODIFIED:20250523T142531Z
UID:10000382-1723496400-1723503600@pmpro.it
SUMMARY:Alle Radici del Cielo - Proiezione con Incontro
DESCRIPTION:Cute Project\n				\n				\n			\n				\n				\n				\n				\n				Il gruppo folkloristico di Gressoney\, noto come Greschòney Trachtengruppe\, proporrà un’esibizione con coreografie originali ispirate alle danze tradizionali del popolo walser. Apprezzato sia a livello nazionale che internazionale\, il gruppo si distingue per i suoi costumi storici di grande valore\, in particolare per la celebre cuffia interamente realizzata in filigrana d’oro\, simbolo di artigianato raffinato. Ha ottenuto numerosi premi e riconoscimenti per la sua attività. Di recente\, il Walser Kulturzentrum ha promosso la definizione di un disciplinare ufficiale (in titsch d’anketò) per la realizzazione del costume tradizionale di Gressoney\, che prevede regole rigorose e l’impiego di materiali specifici per garantirne l’autenticità e la corretta conservazione. \n			\n			\n				\n				\n				\n				\n				\n				\n				\n				\n				\n				\n			\n				\n				\n				\n				\n				Visita la nostra pagina Facebook\n			\n				Clicca qui
URL:https://pmpro.it/event/proiezione-con-incontro-arturo-squinobal/
LOCATION:Wonplatz\, Gressoney-Saint-Jean\, Aosta\, 11025\, Italia
CATEGORIES:Gressoney Saint Jean
ATTACH;FMTTYPE=image/jpeg:https://pmpro.it/wp-content/uploads/2024/05/2024_ALLE-ARIDICI-DEL-CIELO.jpg
GEO:45.780703;7.8238885
END:VEVENT
END:VCALENDAR